BEGIN:VCALENDAR
VERSION:2.0
PRODID:-//Upper Salford Township - ECPv6.15.20//NONSGML v1.0//EN
CALSCALE:GREGORIAN
METHOD:PUBLISH
X-WR-CALNAME:Upper Salford Township
X-ORIGINAL-URL:https://uppersalfordtownship.com
X-WR-CALDESC:Events for Upper Salford Township
REFRESH-INTERVAL;VALUE=DURATION:PT1H
X-Robots-Tag:noindex
X-PUBLISHED-TTL:PT1H
BEGIN:VTIMEZONE
TZID:America/New_York
BEGIN:DAYLIGHT
TZOFFSETFROM:-0500
TZOFFSETTO:-0400
TZNAME:EDT
DTSTART:20250309T070000
END:DAYLIGHT
BEGIN:STANDARD
TZOFFSETFROM:-0400
TZOFFSETTO:-0500
TZNAME:EST
DTSTART:20251102T060000
END:STANDARD
BEGIN:DAYLIGHT
TZOFFSETFROM:-0500
TZOFFSETTO:-0400
TZNAME:EDT
DTSTART:20260308T070000
END:DAYLIGHT
BEGIN:STANDARD
TZOFFSETFROM:-0400
TZOFFSETTO:-0500
TZNAME:EST
DTSTART:20261101T060000
END:STANDARD
BEGIN:DAYLIGHT
TZOFFSETFROM:-0500
TZOFFSETTO:-0400
TZNAME:EDT
DTSTART:20270314T070000
END:DAYLIGHT
BEGIN:STANDARD
TZOFFSETFROM:-0400
TZOFFSETTO:-0500
TZNAME:EST
DTSTART:20271107T060000
END:STANDARD
END:VTIMEZONE
BEGIN:VEVENT
DTSTART;TZID=America/New_York:20260421T193000
DTEND;TZID=America/New_York:20260421T210000
DTSTAMP:20260421T054848
CREATED:20251210T192113Z
LAST-MODIFIED:20260420T144635Z
UID:2784-1776799800-1776805200@uppersalfordtownship.com
SUMMARY:CANCELLED - Planning Commission Meeting
DESCRIPTION:PCAgenda4-21-2026 cancelled
URL:https://uppersalfordtownship.com/event/planning-commission-meeting-11/
LOCATION:PA
CATEGORIES:Planning Commission Meeting
END:VEVENT
END:VCALENDAR