BEGIN:VCALENDAR
VERSION:2.0
PRODID:-//Upper Salford Township - ECPv6.15.20//NONSGML v1.0//EN
CALSCALE:GREGORIAN
METHOD:PUBLISH
X-ORIGINAL-URL:https://uppersalfordtownship.com
X-WR-CALDESC:Events for Upper Salford Township
REFRESH-INTERVAL;VALUE=DURATION:PT1H
X-Robots-Tag:noindex
X-PUBLISHED-TTL:PT1H
BEGIN:VTIMEZONE
TZID:America/New_York
BEGIN:DAYLIGHT
TZOFFSETFROM:-0500
TZOFFSETTO:-0400
TZNAME:EDT
DTSTART:20250309T070000
END:DAYLIGHT
BEGIN:STANDARD
TZOFFSETFROM:-0400
TZOFFSETTO:-0500
TZNAME:EST
DTSTART:20251102T060000
END:STANDARD
BEGIN:DAYLIGHT
TZOFFSETFROM:-0500
TZOFFSETTO:-0400
TZNAME:EDT
DTSTART:20260308T070000
END:DAYLIGHT
BEGIN:STANDARD
TZOFFSETFROM:-0400
TZOFFSETTO:-0500
TZNAME:EST
DTSTART:20261101T060000
END:STANDARD
BEGIN:DAYLIGHT
TZOFFSETFROM:-0500
TZOFFSETTO:-0400
TZNAME:EDT
DTSTART:20270314T070000
END:DAYLIGHT
BEGIN:STANDARD
TZOFFSETFROM:-0400
TZOFFSETTO:-0500
TZNAME:EST
DTSTART:20271107T060000
END:STANDARD
END:VTIMEZONE
BEGIN:VEVENT
DTSTART;TZID=America/New_York:20260818T193000
DTEND;TZID=America/New_York:20260818T210000
DTSTAMP:20260421T214835
CREATED:20251210T192635Z
LAST-MODIFIED:20251210T192635Z
UID:2792-1787081400-1787086800@uppersalfordtownship.com
SUMMARY:Planning Commission Meeting
DESCRIPTION:
URL:https://uppersalfordtownship.com/event/planning-commission-meeting-15/
CATEGORIES:Planning Commission Meeting
END:VEVENT
BEGIN:VEVENT
DTSTART;TZID=America/New_York:20260915T193000
DTEND;TZID=America/New_York:20260915T210000
DTSTAMP:20260421T214835
CREATED:20251210T192712Z
LAST-MODIFIED:20251210T192712Z
UID:2794-1789500600-1789506000@uppersalfordtownship.com
SUMMARY:Planning Commission Meeting
DESCRIPTION:
URL:https://uppersalfordtownship.com/event/planning-commission-meeting-16/
CATEGORIES:Planning Commission Meeting
END:VEVENT
BEGIN:VEVENT
DTSTART;TZID=America/New_York:20261020T193000
DTEND;TZID=America/New_York:20261020T210000
DTSTAMP:20260421T214835
CREATED:20251210T192814Z
LAST-MODIFIED:20251210T192814Z
UID:2796-1792524600-1792530000@uppersalfordtownship.com
SUMMARY:Planning Commission Meeting
DESCRIPTION:
URL:https://uppersalfordtownship.com/event/planning-commission-meeting-17/
CATEGORIES:Planning Commission Meeting
END:VEVENT
BEGIN:VEVENT
DTSTART;TZID=America/New_York:20261117T193000
DTEND;TZID=America/New_York:20261117T210000
DTSTAMP:20260421T214835
CREATED:20251210T192854Z
LAST-MODIFIED:20251210T192854Z
UID:2798-1794943800-1794949200@uppersalfordtownship.com
SUMMARY:Planning Commission Meeting
DESCRIPTION:
URL:https://uppersalfordtownship.com/event/planning-commission-meeting-18/
CATEGORIES:Planning Commission Meeting
END:VEVENT
BEGIN:VEVENT
DTSTART;TZID=America/New_York:20261215T193000
DTEND;TZID=America/New_York:20261215T210000
DTSTAMP:20260421T214835
CREATED:20251210T192931Z
LAST-MODIFIED:20251210T192931Z
UID:2800-1797363000-1797368400@uppersalfordtownship.com
SUMMARY:Planning Commission Meeting
DESCRIPTION:
URL:https://uppersalfordtownship.com/event/planning-commission-meeting-19/
CATEGORIES:Planning Commission Meeting
END:VEVENT
END:VCALENDAR